BEGIN:VCALENDAR
VERSION:2.0
PRODID:-//caads.org//NONSGML kigkonsult.se iCalcreator 2.30.10//
CALSCALE:GREGORIAN
METHOD:PUBLISH
UID:0d9769a6-f55f-4dc6-81d0-cf15c568c441
X-WR-CALDESC:Starting January 1\, 2023\, a number of important changes will
  impact the way individuals dually eligible for Medicare and Medi-Cal and 
 older adults on Medi-Cal receive their health care in California. The chan
 ges include those that are part of California’s five-year initiative\, Cal
 ifornia Advancing and Innovating Medi-Cal (CalAIM)\, and those implemented
  by Centers for Medicare & Medicaid Services (CMS). This webinar will prov
 ide an overview of these changes and their impact on the approximately 1.4
  million individuals dually eligible for Medicare and Medi-Cal or eligible
  for Medi-Cal only in the state. This webinar is a continuation of Justice
  in Aging’s July 28th webinar on the same topic.   \n\nIn this webinar\, w
 e will cover:  \n•	The termination of Cal MediConnect and the transition of
  Cal MediConnect enrollees into Dual Eligible Special Needs Plans (D-SNPs)
    \n•	Mandatory enrollment into Medi-Cal managed care for dually eligible 
 individuals throughout the state  \n•	The carve in of Medi-Cal’s long-term 
 care benefit into Medi-Cal managed care plans  \n•	D-SNP look alike transit
 ion   \nJoin Justice in Aging for this webinar\, CalAIM and Older Adults: 
 Upcoming Changes in 2023—Continued\, to learn more about how your clients 
 may be affected by these changes.   \n\nWho Should Participate:\nAging and
  disability providers and community-based organizations working with indiv
 iduals dually eligible for Medicare and Medi-Cal and low-income older adul
 ts and people with disabilities with Medi-Cal coverage only.   \n\nPresent
 er:\nTiffany Huyenh-Cho\, Senior Attorney\, Justice in Aging \n
X-WR-RELCALID:ca09fe64b57984f45cacd60895cdfa19
X-WR-TIMEZONE:America/Los_Angeles
BEGIN:VTIMEZONE
TZID:America/Los_Angeles
BEGIN:STANDARD
TZNAME:PST
DTSTART:20211107T020000
TZOFFSETFROM:-0700
TZOFFSETTO:-0800
RDATE:20221106T020000
RDATE:20231105T020000
END:STANDARD
BEGIN:DAYLIGHT
TZNAME:PDT
DTSTART:20220313T020000
TZOFFSETFROM:-0800
TZOFFSETTO:-0700
RDATE:20230312T020000
RDATE:20240310T020000
END:DAYLIGHT
END:VTIMEZONE
BEGIN:VEVENT
UID:a6e14d53-6d19-4c18-943c-fb6074436e0a
DTSTAMP:20260419T154301Z
DESCRIPTION:Starting January 1\, 2023\, a number of important changes will 
 impact the way individuals dually eligible for Medicare and Medi-Cal and o
 lder adults on Medi-Cal receive their health care in California. The chang
 es include those that are part of California’s five-year initiative\, Cali
 fornia Advancing and Innovating Medi-Cal (CalAIM)\, and those implemented 
 by Centers for Medicare & Medicaid Services (CMS). This webinar will provi
 de an overview of these changes and their impact on the approximately 1.4 
 million individuals dually eligible for Medicare and Medi-Cal or eligible 
 for Medi-Cal only in the state. This webinar is a continuation of Justice 
 in Aging’s July 28th webinar on the same topic.   \n\nIn this webinar\, we
  will cover:  \n•	The termination of Cal MediConnect and the transition of 
 Cal MediConnect enrollees into Dual Eligible Special Needs Plans (D-SNPs) 
   \n•	Mandatory enrollment into Medi-Cal managed care for dually eligible i
 ndividuals throughout the state  \n•	The carve in of Medi-Cal’s long-term c
 are benefit into Medi-Cal managed care plans  \n•	D-SNP look alike transiti
 on   \nJoin Justice in Aging for this webinar\, CalAIM and Older Adults: U
 pcoming Changes in 2023—Continued\, to learn more about how your clients m
 ay be affected by these changes.   \n\nWho Should Participate:\nAging and 
 disability providers and community-based organizations working with indivi
 duals dually eligible for Medicare and Medi-Cal and low-income older adult
 s and people with disabilities with Medi-Cal coverage only.   \n\nPresente
 r:\nTiffany Huyenh-Cho\, Senior Attorney\, Justice in Aging \n
DTSTART;TZID=America/Los_Angeles:20220921T110000
DTEND;TZID=America/Los_Angeles:20220921T120000
LOCATION:ZOOM
SUMMARY:CalAIM and Older Adults: Upcoming Changes in 2023—Continued
END:VEVENT
END:VCALENDAR
