BEGIN:VCALENDAR
VERSION:2.0
PRODID:-//caads.org//NONSGML kigkonsult.se iCalcreator 2.30.10//
CALSCALE:GREGORIAN
METHOD:PUBLISH
UID:afea47ca-fa24-4de6-8917-d7f7868f2114
X-WR-CALDESC:
X-WR-RELCALID:6e0fe2d7535a0e6d0b34e1bb3ed0a001
X-WR-TIMEZONE:America/Los_Angeles
BEGIN:VTIMEZONE
TZID:America/Los_Angeles
BEGIN:STANDARD
TZNAME:PST
DTSTART:20251102T020000
TZOFFSETFROM:-0700
TZOFFSETTO:-0800
RDATE:20261101T020000
END:STANDARD
BEGIN:DAYLIGHT
TZNAME:PDT
DTSTART:20260308T020000
TZOFFSETFROM:-0800
TZOFFSETTO:-0700
RDATE:20270314T020000
END:DAYLIGHT
END:VTIMEZONE
BEGIN:VEVENT
UID:f71d70b9-744f-4644-a8f0-3989dda1e445
DTSTAMP:20260422T050937Z
DESCRIPTION:
DTSTART;TZID=America/Los_Angeles:20260506T110000
DTEND;TZID=America/Los_Angeles:20260506T120000
LOCATION:https://www.cdss.ca.gov/Portals/9/CCLD/PINs/2026/CCLD/PIN-26-06-CC
 LD.pdf
SUMMARY:CDSS-CCLD GUARDIAN TRAINING WEBINAR FOR LICENSEES AND PROVIDERS
END:VEVENT
END:VCALENDAR
