BEGIN:VCALENDAR
VERSION:2.0
PRODID:-//caads.org//NONSGML kigkonsult.se iCalcreator 2.30.10//
CALSCALE:GREGORIAN
METHOD:PUBLISH
UID:ee6f36fe-ee93-476a-9446-c468900eccf9
X-WR-CALDESC:The California Aging and Disability Research Partnership is co
 mprised of experts in aging research and policy from California's leading 
 academic institutions\, state government\, and other stakeholders. This pa
 rtnership is supported by the CA Department of Aging (CDA)\, in collaborat
 ion with the Center for Data Insights & Innovation (CDII) and other depart
 ments within the CA Health & Human Services Agency (CalHHS). \n  \nThis me
 eting is held virtually and open to the public. Closed Captioning is avail
 able via Zoom. American Sign Language (ASL) is available upon request. Ple
 ase send requests for ASL interpretation at least 72 hours in advance of t
 he meeting to Engage@aging.ca.gov. Additional committee and meeting inform
 ation and materials are posted on the CA Aging and Disability Research Par
 tnership webpage.
X-WR-RELCALID:637b8ca68b5ed43e7775a58f86f34015
X-WR-TIMEZONE:America/Los_Angeles
BEGIN:VTIMEZONE
TZID:America/Los_Angeles
BEGIN:STANDARD
TZNAME:PST
DTSTART:20231105T020000
TZOFFSETFROM:-0700
TZOFFSETTO:-0800
RDATE:20241103T020000
END:STANDARD
BEGIN:DAYLIGHT
TZNAME:PDT
DTSTART:20240310T020000
TZOFFSETFROM:-0800
TZOFFSETTO:-0700
RDATE:20250309T020000
END:DAYLIGHT
END:VTIMEZONE
BEGIN:VEVENT
UID:772b8e09-3981-41fb-964f-0bc6fb97fa8b
DTSTAMP:20260425T101643Z
DESCRIPTION:The California Aging and Disability Research Partnership is com
 prised of experts in aging research and policy from California's leading a
 cademic institutions\, state government\, and other stakeholders. This par
 tnership is supported by the CA Department of Aging (CDA)\, in collaborati
 on with the Center for Data Insights & Innovation (CDII) and other departm
 ents within the CA Health & Human Services Agency (CalHHS). \n  \nThis mee
 ting is held virtually and open to the public. Closed Captioning is availa
 ble via Zoom. American Sign Language (ASL) is available upon request. Plea
 se send requests for ASL interpretation at least 72 hours in advance of th
 e meeting to Engage@aging.ca.gov. Additional committee and meeting informa
 tion and materials are posted on the CA Aging and Disability Research Part
 nership webpage.
DTSTART;TZID=America/Los_Angeles:20240419T100000
DTEND;TZID=America/Los_Angeles:20240419T120000
LOCATION:https://us06web.zoom.us/webinar/register/WN_oPcaEuEiRWSooZhwW2yjRg
 #/registration
SUMMARY:California Aging & Disability Research Partnership Meeting (CADRP)
END:VEVENT
END:VCALENDAR
